BEGIN:VCALENDAR
VERSION:2.0
PRODID:-//Blue Ridge Community Church - ECPv6.15.20//NONSGML v1.0//EN
CALSCALE:GREGORIAN
METHOD:PUBLISH
X-WR-CALNAME:Blue Ridge Community Church
X-ORIGINAL-URL:https://brccaz.com
X-WR-CALDESC:Events for Blue Ridge Community Church
REFRESH-INTERVAL;VALUE=DURATION:PT1H
X-Robots-Tag:noindex
X-PUBLISHED-TTL:PT1H
BEGIN:VTIMEZONE
TZID:America/Phoenix
BEGIN:STANDARD
TZOFFSETFROM:-0700
TZOFFSETTO:-0700
TZNAME:MST
DTSTART:20250101T000000
END:STANDARD
END:VTIMEZONE
BEGIN:VEVENT
DTSTART;TZID=America/Phoenix:20260725T120000
DTEND;TZID=America/Phoenix:20260725T143000
DTSTAMP:20260419T222625
CREATED:20260321T160532Z
LAST-MODIFIED:20260321T160702Z
UID:2926-1784980800-1784989800@brccaz.com
SUMMARY:Ladies Tea
DESCRIPTION:
URL:https://brccaz.com/event/ladies-tea-2
END:VEVENT
END:VCALENDAR