BEGIN:VCALENDAR
VERSION:2.0
PRODID:-//Blue Ridge Community Church - ECPv6.15.20//NONSGML v1.0//EN
CALSCALE:GREGORIAN
METHOD:PUBLISH
X-WR-CALNAME:Blue Ridge Community Church
X-ORIGINAL-URL:https://brccaz.com
X-WR-CALDESC:Events for Blue Ridge Community Church
REFRESH-INTERVAL;VALUE=DURATION:PT1H
X-Robots-Tag:noindex
X-PUBLISHED-TTL:PT1H
BEGIN:VTIMEZONE
TZID:America/Phoenix
BEGIN:STANDARD
TZOFFSETFROM:-0700
TZOFFSETTO:-0700
TZNAME:MST
DTSTART:20230101T000000
END:STANDARD
END:VTIMEZONE
BEGIN:VEVENT
DTSTART;VALUE=DATE:20260601
DTEND;VALUE=DATE:20260602
DTSTAMP:20260422T012925
CREATED:20260421T133935Z
LAST-MODIFIED:20260421T133935Z
UID:2987-1780272000-1780358399@brccaz.com
SUMMARY:Women's summer Bible Study starts  9:30 and 5:30
DESCRIPTION:
URL:https://brccaz.com/event/womens-summer-bible-study-starts-930-and-530
END:VEVENT
BEGIN:VEVENT
DTSTART;TZID=America/Phoenix:20260530T170000
DTEND;TZID=America/Phoenix:20260530T190000
DTSTAMP:20260422T012925
CREATED:20260421T135457Z
LAST-MODIFIED:20260421T135457Z
UID:2990-1780160400-1780167600@brccaz.com
SUMMARY:Sunshine Rescue Mission Banquet (See signup list in church dining area.)
DESCRIPTION:
URL:https://brccaz.com/event/sunshine-rescue-mission-banquet-see-signup-list-in-church-dining-area
END:VEVENT
BEGIN:VEVENT
DTSTART;TZID=America/Phoenix:20260524T180000
DTEND;TZID=America/Phoenix:20260524T213000
DTSTAMP:20260422T012925
CREATED:20260421T133844Z
LAST-MODIFIED:20260421T133844Z
UID:2985-1779645600-1779658200@brccaz.com
SUMMARY:First Movie Night of the year!!
DESCRIPTION:
URL:https://brccaz.com/event/first-movie-night-of-the-year
END:VEVENT
BEGIN:VEVENT
DTSTART;TZID=America/Phoenix:20260517T100000
DTEND;TZID=America/Phoenix:20260517T130000
DTSTAMP:20260422T012925
CREATED:20260421T133721Z
LAST-MODIFIED:20260421T133721Z
UID:2982-1779012000-1779022800@brccaz.com
SUMMARY:Teen challenge and pot luck
DESCRIPTION:
URL:https://brccaz.com/event/teen-challenge-and-pot-luck
END:VEVENT
BEGIN:VEVENT
DTSTART;TZID=America/Phoenix:20260516T080000
DTEND;TZID=America/Phoenix:20260516T170000
DTSTAMP:20260422T012925
CREATED:20260321T163445Z
LAST-MODIFIED:20260321T163445Z
UID:2928-1778918400-1778950800@brccaz.com
SUMMARY:Taco Fun Run (Hope Pregnancy Walk)
DESCRIPTION:
URL:https://brccaz.com/event/taco-fun-run-hope-pregnancy-walk
END:VEVENT
BEGIN:VEVENT
DTSTART;TZID=America/Phoenix:20260516T080000
DTEND;TZID=America/Phoenix:20260516T093000
DTSTAMP:20260422T012925
CREATED:20260313T232742Z
LAST-MODIFIED:20260322T212257Z
UID:2866-1778918400-1778923800@brccaz.com
SUMMARY:Men's Breakfast @ church
DESCRIPTION:
URL:https://brccaz.com/event/mens-breakfast-10
END:VEVENT
BEGIN:VEVENT
DTSTART;TZID=America/Phoenix:20260510T120000
DTEND;TZID=America/Phoenix:20260510T130000
DTSTAMP:20260422T012925
CREATED:20260421T133629Z
LAST-MODIFIED:20260421T133629Z
UID:2980-1778414400-1778418000@brccaz.com
SUMMARY:Church business meeting
DESCRIPTION:
URL:https://brccaz.com/event/church-business-meeting-2
END:VEVENT
BEGIN:VEVENT
DTSTART;TZID=America/Phoenix:20260507T070000
DTEND;TZID=America/Phoenix:20260507T213000
DTSTAMP:20260422T012925
CREATED:20260421T133528Z
LAST-MODIFIED:20260421T133528Z
UID:2978-1778137200-1778189400@brccaz.com
SUMMARY:Men's breakfast at the Early Bird Cafe in Pine Carpool leaves the church at 7 AM
DESCRIPTION:
URL:https://brccaz.com/event/mens-breakfast-at-the-early-bird-cafe-in-pine-carpool-leaves-the-church-at-7-am
END:VEVENT
BEGIN:VEVENT
DTSTART;TZID=America/Phoenix:20260429T113000
DTEND;TZID=America/Phoenix:20260429T200000
DTSTAMP:20260422T012925
CREATED:20260408T022321Z
LAST-MODIFIED:20260408T022500Z
UID:2955-1777462200-1777492800@brccaz.com
SUMMARY:Ladies lunch @ Las Marias in Winslow.  Carpool from the church parking lot at 11:45
DESCRIPTION:
URL:https://brccaz.com/event/fish-fry-and-game-night
END:VEVENT
BEGIN:VEVENT
DTSTART;VALUE=DATE:20260427
DTEND;VALUE=DATE:20260428
DTSTAMP:20260422T012925
CREATED:20260421T133401Z
LAST-MODIFIED:20260421T133401Z
UID:2976-1777248000-1777334399@brccaz.com
SUMMARY:Women's Bible Study on 2 Thessalonians starts.  9:30 and 5:30
DESCRIPTION:
URL:https://brccaz.com/event/womens-bible-study-on-2-thessalonians-starts-930-and-530
END:VEVENT
BEGIN:VEVENT
DTSTART;TZID=America/Phoenix:20260418T080000
DTEND;TZID=America/Phoenix:20260418T093000
DTSTAMP:20260422T012925
CREATED:20260313T233010Z
LAST-MODIFIED:20260322T212319Z
UID:2869-1776499200-1776504600@brccaz.com
SUMMARY:Men's Breakfast @ church
DESCRIPTION:
URL:https://brccaz.com/event/mens-breakfast-11
END:VEVENT
BEGIN:VEVENT
DTSTART;TZID=America/Phoenix:20260412T113000
DTEND;TZID=America/Phoenix:20260412T123000
DTSTAMP:20260422T012925
CREATED:20260315T221537Z
LAST-MODIFIED:20260329T191959Z
UID:2883-1775993400-1775997000@brccaz.com
SUMMARY:Pot luck and Church business meeting
DESCRIPTION:
URL:https://brccaz.com/event/pot-luck-church-business-meeting
END:VEVENT
BEGIN:VEVENT
DTSTART;TZID=America/Phoenix:20260411T170000
DTEND;TZID=America/Phoenix:20260411T200000
DTSTAMP:20260422T012925
CREATED:20260408T022737Z
LAST-MODIFIED:20260410T000820Z
UID:2960-1775926800-1775937600@brccaz.com
SUMMARY:Fish Fry and game night @ the church
DESCRIPTION:
URL:https://brccaz.com/event/fish-fry-the-church
END:VEVENT
BEGIN:VEVENT
DTSTART;TZID=America/Phoenix:20260402T070000
DTEND;TZID=America/Phoenix:20260402T090000
DTSTAMP:20260422T012925
CREATED:20260315T221320Z
LAST-MODIFIED:20260315T221320Z
UID:2880-1775113200-1775120400@brccaz.com
SUMMARY:Men's breakfast At the Early Bird Cafe in Pine.  Leave from church parking lot @ 7
DESCRIPTION:
URL:https://brccaz.com/event/mens-breakfast-at-the-early-bird-cafe-in-pine-leave-from-church-parking-lot-7
END:VEVENT
BEGIN:VEVENT
DTSTART;TZID=America/Phoenix:20260325T090000
DTEND;TZID=America/Phoenix:20260325T110000
DTSTAMP:20260422T012925
CREATED:20260315T221046Z
LAST-MODIFIED:20260315T221057Z
UID:2878-1774429200-1774436400@brccaz.com
SUMMARY:Ladies Brunch in Winslow (Leave from church parking lot @ 9)
DESCRIPTION:
URL:https://brccaz.com/event/ladies-brunch-in-winslow-leave-from-church-parking-lot-9
END:VEVENT
BEGIN:VEVENT
DTSTART;TZID=America/Phoenix:20260321T080000
DTEND;TZID=America/Phoenix:20260321T093000
DTSTAMP:20260422T012925
CREATED:20260311T133902Z
LAST-MODIFIED:20260322T212338Z
UID:2824-1774080000-1774085400@brccaz.com
SUMMARY:Men's Breakfast @ church
DESCRIPTION:Join us at 8:00 to hang out with like-minded men doing their favorite thing. \n  \nFOOD!! \n  \nContact Ken White if you are able to help with cooking and/or set up.  602 515 2980
URL:https://brccaz.com/event/mens-breakfast-9
END:VEVENT
BEGIN:VEVENT
DTSTART;TZID=America/Phoenix:20251224T180000
DTEND;TZID=America/Phoenix:20251224T190000
DTSTAMP:20260422T012925
CREATED:20251207T205814Z
LAST-MODIFIED:20251207T205814Z
UID:2692-1766599200-1766602800@brccaz.com
SUMMARY:2025 Christmas Eve Candlelight Service
DESCRIPTION:2025 Christmas Eve Candlelight Service \nDecember 24th starting at 6:00PM
URL:https://brccaz.com/event/2025-christmas-eve-candlelight-service
LOCATION:BRCC\, 5706 N. Worship Way\, Happy Jack\, AZ\, 86024
END:VEVENT
BEGIN:VEVENT
DTSTART;TZID=America/Phoenix:20251214T150000
DTEND;TZID=America/Phoenix:20251214T160000
DTSTAMP:20260422T012925
CREATED:20251207T205550Z
LAST-MODIFIED:20251207T205550Z
UID:2689-1765724400-1765728000@brccaz.com
SUMMARY:2025 Christmas Cantata
DESCRIPTION:2025 Christmas Cantata \nSunday December 14\, 2025 \n3:00 PM
URL:https://brccaz.com/event/2025-christmas-cantata
LOCATION:BRCC\, 5706 N. Worship Way\, Happy Jack\, AZ\, 86024
END:VEVENT
BEGIN:VEVENT
DTSTART;TZID=America/Phoenix:20250913T170000
DTEND;TZID=America/Phoenix:20250913T200000
DTSTAMP:20260422T012925
CREATED:20250817T204903Z
LAST-MODIFIED:20250817T204903Z
UID:2591-1757782800-1757793600@brccaz.com
SUMMARY:2025 Community Barbeque
DESCRIPTION:Join BRCC for an evening of BBQ and fun as we share stories and food with our neighbors. \nFood and Drinks will be provided. \nWe start around 5:00 PM. \nBring a chair and your appetite.
URL:https://brccaz.com/event/2025-community-barbeque
LOCATION:BRCC\, 5706 N. Worship Way\, Happy Jack\, AZ\, 86024
END:VEVENT
BEGIN:VEVENT
DTSTART;TZID=America/Phoenix:20250412T110000
DTEND;TZID=America/Phoenix:20250412T120000
DTSTAMP:20260422T012925
CREATED:20250405T161004Z
LAST-MODIFIED:20250405T161004Z
UID:2439-1744455600-1744459200@brccaz.com
SUMMARY:Jerry Barrett Celebration of Life
DESCRIPTION:The celebration of life service for Jerry Barrett will be held in the valley on April 10th\, and a service in Happy Jack at BRCC will be held on April 12th with a reception following the service. \nFor additional details view page here: Jerry Austin Barrett
URL:https://brccaz.com/event/jerry-barrett-celebration-of-life
LOCATION:BRCC\, 5706 N. Worship Way\, Happy Jack\, AZ\, 86024
END:VEVENT
BEGIN:VEVENT
DTSTART;TZID=America/Phoenix:20241224T180000
DTEND;TZID=America/Phoenix:20241224T190000
DTSTAMP:20260422T012925
CREATED:20241218T203024Z
LAST-MODIFIED:20241218T203024Z
UID:2328-1735063200-1735066800@brccaz.com
SUMMARY:2024 Christmas Eve Service
DESCRIPTION:Our Christmas Eve candlelight service will be at 6:00 on December 24th. \nJoin us to celebrate the birth of our Savior.
URL:https://brccaz.com/event/2024-christmas-eve-service
LOCATION:BRCC\, 5706 N. Worship Way\, Happy Jack\, AZ\, 86024
CATEGORIES:Outreach
END:VEVENT
BEGIN:VEVENT
DTSTART;TZID=America/Phoenix:20241215T150000
DTEND;TZID=America/Phoenix:20241215T163000
DTSTAMP:20260422T012925
CREATED:20241128T153902Z
LAST-MODIFIED:20241128T153902Z
UID:2278-1734274800-1734280200@brccaz.com
SUMMARY:2024 Christmas Contata
DESCRIPTION:BRCC Worship Team Presents: \n \n  \n  \nSunday December 15 @ 3:00 PM \n5706 Worship Way \nHappy Jack\, AZ
URL:https://brccaz.com/event/2024-christmas-contata
LOCATION:BRCC\, 5706 N. Worship Way\, Happy Jack\, AZ\, 86024
CATEGORIES:Outreach
END:VEVENT
BEGIN:VEVENT
DTSTART;TZID=America/Phoenix:20241129T173000
DTEND;TZID=America/Phoenix:20241129T190000
DTSTAMP:20260422T012925
CREATED:20241128T154111Z
LAST-MODIFIED:20241128T154111Z
UID:2283-1732901400-1732906800@brccaz.com
SUMMARY:2024 Community Tree Lighting
DESCRIPTION:Join us for caroling and treats at the annual tree lighting. \n5:30 PM November 29\, 2024
URL:https://brccaz.com/event/2024-community-tree-lighting
LOCATION:BRCC\, 5706 N. Worship Way\, Happy Jack\, AZ\, 86024
END:VEVENT
BEGIN:VEVENT
DTSTART;TZID=America/Phoenix:20241128T140000
DTEND;TZID=America/Phoenix:20241128T170000
DTSTAMP:20260422T012925
CREATED:20241030T155609Z
LAST-MODIFIED:20241030T155609Z
UID:2229-1732802400-1732813200@brccaz.com
SUMMARY:2024 Community Thanksgiving Meal
DESCRIPTION:Join us at BRCC for a meal on Thanksgiving Day November 28th to fellowship and celebrate what we are thankful for. \nHam and turkey will be provided. Please bring a side dish or desert to share\, along with your stories of what events this year of how you have been blessed. \nMeet and greet will begin around 2:00\, and we plan to eat around 3:00 PM. \nAnyone is welcome to join\, so bring a guest along with your family.
URL:https://brccaz.com/event/2024-community-thanksgiving-meal
LOCATION:BRCC\, 5706 N. Worship Way\, Happy Jack\, AZ\, 86024
END:VEVENT
BEGIN:VEVENT
DTSTART;TZID=America/Phoenix:20240804T190000
DTEND;TZID=America/Phoenix:20240804T213000
DTSTAMP:20260422T012925
CREATED:20240721T194912Z
LAST-MODIFIED:20240721T194912Z
UID:2039-1722798000-1722807000@brccaz.com
SUMMARY:Movie Night - August 2024
DESCRIPTION:Movie Under the Stars \nLocation: 5706 N. Worship Way  \nBehind the Blue Ridge Community Church \nSunday Evening – August 4 \nWe’ll begin serving Hot Dogs and Soda at 7:00  \nThe movie will begin at dusk (around 7:45) \nThis month’s featured presentation: \n“Amazing Grace” \nBased on a True Story \nBring your lawn chairs and a jacket  \n(maybe even a blanket) \nThis is a free community event  \ncome on out visit with your neighbors  \nand enjoy the movie
URL:https://brccaz.com/event/movie-night-august-2024
LOCATION:BRCC\, 5706 N. Worship Way\, Happy Jack\, AZ\, 86024
END:VEVENT
BEGIN:VEVENT
DTSTART;TZID=America/Phoenix:20240707T183000
DTEND;TZID=America/Phoenix:20240707T210000
DTSTAMP:20260422T012925
CREATED:20240530T034656Z
LAST-MODIFIED:20240531T221019Z
UID:1945-1720377000-1720386000@brccaz.com
SUMMARY:Movie Night - July 2024
DESCRIPTION:Movie Under the Stars \nLocation: 5706 N. Worship Way  \nBehind the Blue Ridge Community Church \nSunday Evening – July 7 \nWe’ll begin serving Hot Dogs and Soda at 7:00  \nThe movie will begin at dusk (around 7:45) \nThis month’s featured presentation: \n“The Hill” \nBased on a True Story \nBring your lawn chairs and a jacket  \n(maybe even a blanket) \nThis is a free community event  \ncome on out visit with your neighbors  \nand enjoy the movie
URL:https://brccaz.com/event/1945
LOCATION:BRCC\, 5706 N. Worship Way\, Happy Jack\, AZ\, 86024
END:VEVENT
BEGIN:VEVENT
DTSTART;TZID=America/Phoenix:20240706T100000
DTEND;TZID=America/Phoenix:20240706T130000
DTSTAMP:20260422T012925
CREATED:20240616T200458Z
LAST-MODIFIED:20240616T200458Z
UID:1953-1720260000-1720270800@brccaz.com
SUMMARY:Community Carnival 2024
DESCRIPTION:Enjoy Games\, Prizes and Lots of Fun! \nAn opportunity to share and meet others in our community. \nJuly 6\, 2024 10:00 AM- 1:00 PM
URL:https://brccaz.com/event/community-carnival-2024
LOCATION:BRCC\, 5706 N. Worship Way\, Happy Jack\, AZ\, 86024
END:VEVENT
BEGIN:VEVENT
DTSTART;TZID=America/Phoenix:20240622T120000
DTEND;TZID=America/Phoenix:20240622T150000
DTSTAMP:20260422T012925
CREATED:20240519T205442Z
LAST-MODIFIED:20240519T205442Z
UID:1920-1719057600-1719068400@brccaz.com
SUMMARY:Ladies' Tea 2024
DESCRIPTION:Annual Ladies’ Tea – Saturday June 22\, 2024 – Noon to 3:00 PM
URL:https://brccaz.com/event/ladies-tea-2024
LOCATION:BRCC\, 5706 N. Worship Way\, Happy Jack\, AZ\, 86024
ORGANIZER;CN="BRCC Women":MAILTO:women@brccaz.com
END:VEVENT
BEGIN:VEVENT
DTSTART;TZID=America/Phoenix:20240607T180000
DTEND;TZID=America/Phoenix:20240607T200000
DTSTAMP:20260422T012925
CREATED:20240519T204557Z
LAST-MODIFIED:20240526T143516Z
UID:1918-1717783200-1717790400@brccaz.com
SUMMARY:Evening of Hope Dinner
DESCRIPTION:An Evening of Hope  \nOutdoor Dinner \n Featuring Flagstaff’s \n       Hope Pregnancy Resource Center & \n       Sunshine Rescue Mission/ “Hope Cottage” \n  \nSuggested donation for the meal is $20.00 per person \nWith all proceeds going to these 2 charities  \n  \nFriday\, June 7 from 6pm-9 \nBehind the Blue Ridge Community Church \nUnder the bus shelter \n  \nCome learn how these organizations  \nare making a difference with  \nthose in our area who are in need
URL:https://brccaz.com/event/evening-of-hope-dinner
LOCATION:BRCC\, 5706 N. Worship Way\, Happy Jack\, AZ\, 86024
CATEGORIES:Outreach
END:VEVENT
BEGIN:VEVENT
DTSTART;TZID=America/Phoenix:20240526T183000
DTEND;TZID=America/Phoenix:20240526T210000
DTSTAMP:20260422T012925
CREATED:20240526T134510Z
LAST-MODIFIED:20240526T143700Z
UID:1929-1716748200-1716757200@brccaz.com
SUMMARY:Movie Night - May 2024
DESCRIPTION:We are in the 10th season of \nMovie Under the Stars \nLocation: 5706 N. Worship Way  \nBehind the Blue Ridge Community Church \nSunday Evening – May 26 \nWe’ll begin serving Hot Dogs and Soda at 6:30  \nThe movie will begin at dusk (around 7:30) \nThis month’s featured presentation: \n“God’s Not Dead” \nBring your lawn chairs and a jacket (maybe even a blanket) \n  \nThis is a free community event come on out visit with your neighbors and enjoy the movie
URL:https://brccaz.com/event/movie-night-may-2024
LOCATION:BRCC\, 5706 N. Worship Way\, Happy Jack\, AZ\, 86024
CATEGORIES:Outreach
END:VEVENT
END:VCALENDAR