BEGIN:VCALENDAR
VERSION:2.0
PRODID:-//Blue Ridge Community Church - ECPv6.15.20//NONSGML v1.0//EN
CALSCALE:GREGORIAN
METHOD:PUBLISH
X-WR-CALNAME:Blue Ridge Community Church
X-ORIGINAL-URL:https://brccaz.com
X-WR-CALDESC:Events for Blue Ridge Community Church
REFRESH-INTERVAL;VALUE=DURATION:PT1H
X-Robots-Tag:noindex
X-PUBLISHED-TTL:PT1H
BEGIN:VTIMEZONE
TZID:America/Phoenix
BEGIN:STANDARD
TZOFFSETFROM:-0700
TZOFFSETTO:-0700
TZNAME:MST
DTSTART:20200101T000000
END:STANDARD
END:VTIMEZONE
BEGIN:VEVENT
DTSTART;TZID=America/Phoenix:20221209T163000
DTEND;TZID=America/Phoenix:20221209T190000
DTSTAMP:20260425T070202
CREATED:20221007T183557Z
LAST-MODIFIED:20221007T183617Z
UID:938-1670603400-1670612400@brccaz.com
SUMMARY:Blue Ridge Christmas Party
DESCRIPTION:Tentative Date for Christmas Party… \n  \nMore Details to follow.
URL:https://brccaz.com/event/blue-ridge-christmas-party
LOCATION:BRCC\, 5706 N. Worship Way\, Happy Jack\, AZ\, 86024
CATEGORIES:Outreach
END:VEVENT
BEGIN:VEVENT
DTSTART;TZID=America/Phoenix:20221125T173000
DTEND;TZID=America/Phoenix:20221125T193000
DTSTAMP:20260425T070202
CREATED:20221007T183329Z
LAST-MODIFIED:20221111T185732Z
UID:936-1669397400-1669404600@brccaz.com
SUMMARY:Annual Community Tree Lighting
DESCRIPTION:Join us for Christmas Carols\, Cocoa and the tree lighting to kick off the season of Jesus’ birth celebration.
URL:https://brccaz.com/event/annual-community-tree-lighting
LOCATION:BRCC\, 5706 N. Worship Way\, Happy Jack\, AZ\, 86024
CATEGORIES:Outreach
END:VEVENT
BEGIN:VEVENT
DTSTART;TZID=America/Phoenix:20220904T190000
DTEND;TZID=America/Phoenix:20220904T220000
DTSTAMP:20260425T070202
CREATED:20220626T030122Z
LAST-MODIFIED:20220627T215729Z
UID:768-1662318000-1662328800@brccaz.com
SUMMARY:September Movie Night - "Courageous Legacy"
DESCRIPTION:This is a special licensed engagement by Kendrick Brothers Films of the 10th Anniversary of the original “COURAGEOUS” release\, expanded and improved. \nLaw enforcement officers try to balance their community protection commitments with the challenges of serving and protecting their own families\, while faced with their own professional fraternity issues.
URL:https://brccaz.com/event/september-movie-night
LOCATION:AZ
CATEGORIES:Outreach
END:VEVENT
BEGIN:VEVENT
DTSTART;TZID=America/Phoenix:20220903T100000
DTEND;TZID=America/Phoenix:20220903T130000
DTSTAMP:20260425T070202
CREATED:20220206T024147Z
LAST-MODIFIED:20220828T192817Z
UID:609-1662199200-1662210000@brccaz.com
SUMMARY:2nd Annual Car Show
DESCRIPTION:2nd annual Car Show on the Mountain-Entry divisions include muscle cars\, antique vehicles\, trucks old and new\, motorcycles\, and antique tractors. Plan to see amazing vehicles\, fun music\, and much more. \n2022_Car_Show
URL:https://brccaz.com/event/2nd-annual-car-show
LOCATION:AZ
CATEGORIES:Outreach
ORGANIZER;CN="BRCC Men":MAILTO:men@brccaz.com
END:VEVENT
BEGIN:VEVENT
DTSTART;TZID=America/Phoenix:20220820T163000
DTEND;TZID=America/Phoenix:20220820T200000
DTSTAMP:20260425T070202
CREATED:20220626T192751Z
LAST-MODIFIED:20220626T192827Z
UID:776-1661013000-1661025600@brccaz.com
SUMMARY:Western Outdoor Bar-B-Que
DESCRIPTION:Come enjoy this community event that includes a bar-b-que dinner\, old-fashioned country games\, a live band and great fellowship.
URL:https://brccaz.com/event/western-outdoor-bar-b-que
LOCATION:AZ
CATEGORIES:Outreach
END:VEVENT
BEGIN:VEVENT
DTSTART;TZID=America/Phoenix:20220807T190000
DTEND;TZID=America/Phoenix:20220807T220000
DTSTAMP:20260425T070202
CREATED:20220626T025901Z
LAST-MODIFIED:20220626T192914Z
UID:766-1659898800-1659909600@brccaz.com
SUMMARY:Movie Night
DESCRIPTION:August movie night will feature “Amazing Grace” The story of William Wilberforce and his fight to end slavery in the British Empire.
URL:https://brccaz.com/event/movie-night-3
LOCATION:AZ
CATEGORIES:Outreach
END:VEVENT
BEGIN:VEVENT
DTSTART;TZID=America/Phoenix:20220723T110000
DTEND;TZID=America/Phoenix:20220723T150000
DTSTAMP:20260425T070202
CREATED:20220206T024124Z
LAST-MODIFIED:20220626T193029Z
UID:607-1658574000-1658588400@brccaz.com
SUMMARY:Christmas in July
DESCRIPTION:Christmas in July- provide gifts\, coloring books\, meal\, joy to children in Winslow and surrounding areas. Emphasizing Christ’s joy to all children and their families.
URL:https://brccaz.com/event/christmas-in-july
LOCATION:AZ
CATEGORIES:Outreach
ORGANIZER;CN="BRCC Men":MAILTO:men@brccaz.com
END:VEVENT
BEGIN:VEVENT
DTSTART;TZID=America/Phoenix:20220717T100000
DTEND;TZID=America/Phoenix:20220717T123000
DTSTAMP:20260425T070202
CREATED:20220626T193004Z
LAST-MODIFIED:20220626T193004Z
UID:774-1658052000-1658061000@brccaz.com
SUMMARY:Bell Choir
DESCRIPTION:The Bell Choir will be sharing their music during our Sunday morning service.  Come out and be blessed.
URL:https://brccaz.com/event/bell-choir
LOCATION:AZ
CATEGORIES:Outreach
END:VEVENT
BEGIN:VEVENT
DTSTART;TZID=America/Phoenix:20220703T190000
DTEND;TZID=America/Phoenix:20220703T220000
DTSTAMP:20260425T070202
CREATED:20220621T023101Z
LAST-MODIFIED:20220627T215532Z
UID:755-1656874800-1656885600@brccaz.com
SUMMARY:Movie Night
DESCRIPTION:Tonight’s Feature is “JONI”\, a special Billy Graham Evangelistic Association Licensed Engagement. \nThis is the true story of Joni Earickson Tada\, played by herself\, who was paralyzed by a diving accident in her teens\, apparently ending a most promising athletic career. But God has an even more astounding plan for her life\, and she must learn to trust Him. \nHot dogs start at 7pm with the movie starting around 7:45 (at dusk)
URL:https://brccaz.com/event/movie-night-2
LOCATION:AZ
CATEGORIES:Outreach
END:VEVENT
BEGIN:VEVENT
DTSTART;TZID=America/Phoenix:20220702T090000
DTEND;TZID=America/Phoenix:20220702T130000
DTSTAMP:20260425T070202
CREATED:20220623T224903Z
LAST-MODIFIED:20220725T204727Z
UID:751-1656752400-1656766800@brccaz.com
SUMMARY:Community Carnival
DESCRIPTION:Come out play some games\, win some prizes and meet your neighbors. You might get your chance to soak the Pastor. \nPhotos
URL:https://brccaz.com/event/community-carnival
LOCATION:AZ
CATEGORIES:Outreach
END:VEVENT
BEGIN:VEVENT
DTSTART;TZID=America/Phoenix:20220417T080000
DTEND;TZID=America/Phoenix:20220417T220000
DTSTAMP:20260425T070202
CREATED:20220403T194203Z
LAST-MODIFIED:20220403T194222Z
UID:667-1650182400-1650232800@brccaz.com
SUMMARY:Son-Rise Service
DESCRIPTION:Come join us as Calvery Bible Church and Blue Ridge Community Church meet together to celebrate the resurrection of our Lord Jesus Christ. Plan to stay after the Son-Rise service and enjoy a “community breakfast”.
URL:https://brccaz.com/event/son-rise-service
LOCATION:AZ
CATEGORIES:Outreach
END:VEVENT
BEGIN:VEVENT
DTSTART;TZID=America/Phoenix:20220318T173000
DTEND;TZID=America/Phoenix:20220318T200000
DTSTAMP:20260425T070202
CREATED:20220313T211032Z
LAST-MODIFIED:20220313T211106Z
UID:649-1647624600-1647633600@brccaz.com
SUMMARY:March Game Night
DESCRIPTION:Join us at the church for a fun filled evening of games and fellowship. \nBring some snacks and your competitive spirit and enjoy time with the community. \nWe will start around 5:30PM and see where it goes from there.
URL:https://brccaz.com/event/march-game-night
LOCATION:BRCC\, 5706 N. Worship Way\, Happy Jack\, AZ\, 86024
CATEGORIES:Outreach
END:VEVENT
BEGIN:VEVENT
DTSTART;TZID=America/Phoenix:20220114T173000
DTEND;TZID=America/Phoenix:20220114T200000
DTSTAMP:20260425T070202
CREATED:20220109T212943Z
LAST-MODIFIED:20220109T214531Z
UID:456-1642181400-1642190400@brccaz.com
SUMMARY:Game Night
DESCRIPTION:Join us at the church for a fun filled evening of games and fellowship. \nBring some snacks and your competitive spirit and enjoy time with the community. \nWe will start around 5:30PM and see where it goes from there.
URL:https://brccaz.com/event/game-night
LOCATION:BRCC\, 5706 N. Worship Way\, Happy Jack\, AZ\, 86024
CATEGORIES:Outreach
END:VEVENT
BEGIN:VEVENT
DTSTART;TZID=America/Phoenix:20211231T170000
DTEND;TZID=America/Phoenix:20220101T000000
DTSTAMP:20260425T070202
CREATED:20211117T140401Z
LAST-MODIFIED:20220109T214603Z
UID:368-1640970000-1640995200@brccaz.com
SUMMARY:New Year's Eve
DESCRIPTION:Bring in the New Year at the Lamberts home. \nThe gathering will start around 5ish and everyone is asked to bring snacks.  This will be an evening of fellowship and games. \nWe will stop and pray in the New Year around 9pm (for those who are early to bed people) and for those are more adventurous (and had too much caffeine) we will stop again at midnight and pray in the new year “Arizona Time”.
URL:https://brccaz.com/event/new-years-eve
LOCATION:AZ
CATEGORIES:Outreach
END:VEVENT
BEGIN:VEVENT
DTSTART;TZID=America/Phoenix:20211224T180000
DTEND;TZID=America/Phoenix:20211224T190000
DTSTAMP:20260425T070202
CREATED:20211128T205735Z
LAST-MODIFIED:20211128T205735Z
UID:379-1640368800-1640372400@brccaz.com
SUMMARY:Christmas Eve Service
DESCRIPTION:Join us for a celebration of Jesus’ birth with praise and worship.
URL:https://brccaz.com/event/christmas-eve-service
LOCATION:BRCC\, 5706 N. Worship Way\, Happy Jack\, AZ\, 86024
CATEGORIES:Outreach
END:VEVENT
BEGIN:VEVENT
DTSTART;TZID=America/Phoenix:20211210T163000
DTEND;TZID=America/Phoenix:20211210T200000
DTSTAMP:20260425T070202
CREATED:20211117T140057Z
LAST-MODIFIED:20211203T134826Z
UID:351-1639153800-1639166400@brccaz.com
SUMMARY:Annual Christmas Party
DESCRIPTION:Church wide Christmas Party December 10\, 4:30 social time with snacks\, 5:30 dinner\, 6:30 gift exchange.  Dress “church nice”\, photos will be taken.  Gift $20.00/person with emphasis on gift cards this year!!! (We always “fight” over those!!!). \nWill do “ugly” sweater contest another year.. This year focus on Christ Birth and celebrating together as HIS body of believers.  Help always needed for meal prep\, set up\, tear down\, etc.  Please call Eileen or Mary Keebler questions or to help! \nBe sure to invite your friends and family to share in the joy. \nPlease RSVP to Eileen by Tuesday December 7 so we can get a count for dinner.
URL:https://brccaz.com/event/annual-christmas-party
LOCATION:BRCC\, 5706 N. Worship Way\, Happy Jack\, AZ\, 86024
CATEGORIES:Outreach
END:VEVENT
BEGIN:VEVENT
DTSTART;TZID=America/Phoenix:20211125T150000
DTEND;TZID=America/Phoenix:20211125T200000
DTSTAMP:20260425T070202
CREATED:20211117T135744Z
LAST-MODIFIED:20211117T135744Z
UID:364-1637852400-1637870400@brccaz.com
SUMMARY:Thanksgiving on the Mountain
DESCRIPTION:Bob and Eileen are opening their home for anyone Thanksgiving Day…potluck\, turkey and ham will be provided.  Come around 3:00 play games\, eat and home by 8!!!   And NO DISHES!!! \nWe have so much to be thankful for and feel the need\, as we grieve the loss of our precious DeeDee and Rick to gather together sharing stories and memories… We will celebrate their life and celebrate the abundance given to us! \nPlease join us for some or all the day!!!
URL:https://brccaz.com/event/thanksgiving-on-the-mountain
LOCATION:AZ
CATEGORIES:Outreach
END:VEVENT
BEGIN:VEVENT
DTSTART;TZID=America/Phoenix:20211123T080000
DTEND;TZID=America/Phoenix:20211123T170000
DTSTAMP:20260425T070202
CREATED:20211117T135443Z
LAST-MODIFIED:20211117T135443Z
UID:362-1637654400-1637686800@brccaz.com
SUMMARY:Thanksgiving Dinner Donations for Alice's Place
DESCRIPTION:Thanksgiving signup sheets are complete!!! Thank you for generosity giving to the 4 families supported by Alice’s Place!  Items due at the church no later than November 23.
URL:https://brccaz.com/event/thanksgiving-dinner-donations-for-alices-place
LOCATION:BRCC\, 5706 N. Worship Way\, Happy Jack\, AZ\, 86024
CATEGORIES:Outreach
END:VEVENT
BEGIN:VEVENT
DTSTART;TZID=America/Phoenix:20211121T080000
DTEND;TZID=America/Phoenix:20211121T170000
DTSTAMP:20260425T070202
CREATED:20211117T135239Z
LAST-MODIFIED:20211117T135239Z
UID:359-1637481600-1637514000@brccaz.com
SUMMARY:Samaritan's Purse Shoe Boxes
DESCRIPTION:We are collecting gifts for the Samaritan’s Purse Shoebox campaign. Money always accepted towards items mainly purchased at the dollar store… each shoe box blessed a child complete with a handwritten note telling them they are loved and prayed for by BRCC!!! \nShoe boxes collected will be delivered to Chandler…a nondenominational church collected over 500 last year!!!  Each box averages $15-$20.00 including the $9.00/box shipping costs to the Philippines… any questions call Eileen. \nPlease get your donations in by November 21 so they can be delivered.
URL:https://brccaz.com/event/samaritans-purse-shoe-boxes
LOCATION:BRCC\, 5706 N. Worship Way\, Happy Jack\, AZ\, 86024
CATEGORIES:Outreach
END:VEVENT
BEGIN:VEVENT
DTSTART;TZID=America/Phoenix:20210924T090000
DTEND;TZID=America/Phoenix:20210924T130000
DTSTAMP:20260425T070202
CREATED:20210824T184952Z
LAST-MODIFIED:20210824T184952Z
UID:137-1632474000-1632488400@brccaz.com
SUMMARY:Area Blood Drive
DESCRIPTION:The area blood drive is back! Please make time to donate if you are able to help replenish the area blood banks. \nWe will be setting up at the Blue Ridge Community Church on September 24 from 9:00 AM to 1:00 PM. \nPlease contact Donna to reserve your time.
URL:https://brccaz.com/event/area-blood-drive
LOCATION:BRCC\, 5706 N. Worship Way\, Happy Jack\, AZ\, 86024
CATEGORIES:Outreach
END:VEVENT
BEGIN:VEVENT
DTSTART;TZID=America/Phoenix:20210904T090000
DTEND;TZID=America/Phoenix:20210904T130000
DTSTAMP:20260425T070202
CREATED:20210823T211931Z
LAST-MODIFIED:20220908T183143Z
UID:41-1630746000-1630760400@brccaz.com
SUMMARY:1st Annual Labor Day Car Show
DESCRIPTION:Come join us on the mountain where you will enjoy: 7\,000’ Elevation\, Peaceful Surrounding\, Fresh Air and Adjoining Arts/Crafts Shows \nPrizes for top 3 – Decided by Spectators \nRegister Entry with Casey @ 602-332-9697
URL:https://brccaz.com/event/1st-annual-labor-day-car-show
LOCATION:BRCC\, 5706 N. Worship Way\, Happy Jack\, AZ\, 86024
CATEGORIES:Outreach
END:VEVENT
END:VCALENDAR