BEGIN:VCALENDAR
VERSION:2.0
PRODID:-//Blue Ridge Community Church - ECPv6.15.20//NONSGML v1.0//EN
CALSCALE:GREGORIAN
METHOD:PUBLISH
X-WR-CALNAME:Blue Ridge Community Church
X-ORIGINAL-URL:https://brccaz.com
X-WR-CALDESC:Events for Blue Ridge Community Church
REFRESH-INTERVAL;VALUE=DURATION:PT1H
X-Robots-Tag:noindex
X-PUBLISHED-TTL:PT1H
BEGIN:VTIMEZONE
TZID:America/Phoenix
BEGIN:STANDARD
TZOFFSETFROM:-0700
TZOFFSETTO:-0700
TZNAME:MST
DTSTART:20200101T000000
END:STANDARD
END:VTIMEZONE
BEGIN:VEVENT
DTSTART;TZID=America/Phoenix:20221015T080000
DTEND;TZID=America/Phoenix:20221015T093000
DTSTAMP:20260420T051921
CREATED:20221007T182838Z
LAST-MODIFIED:20221007T183031Z
UID:934-1665820800-1665826200@brccaz.com
SUMMARY:October Men's Breakfast
DESCRIPTION:Come join the men from the community as we share breakfast and a testimony.
URL:https://brccaz.com/event/october-mens-breakfast
LOCATION:BRCC\, 5706 N. Worship Way\, Happy Jack\, AZ\, 86024
CATEGORIES:Men's Breakfast
ORGANIZER;CN="BRCC Men":MAILTO:men@brccaz.com
END:VEVENT
BEGIN:VEVENT
DTSTART;TZID=America/Phoenix:20220917T080000
DTEND;TZID=America/Phoenix:20220917T093000
DTSTAMP:20260420T051921
CREATED:20220626T192658Z
LAST-MODIFIED:20220626T192849Z
UID:772-1663401600-1663407000@brccaz.com
SUMMARY:Men's Breakfast
DESCRIPTION:Men’s Community Breakfast -come join us
URL:https://brccaz.com/event/mens-breakfast-7
LOCATION:AZ
CATEGORIES:Men's Breakfast
END:VEVENT
BEGIN:VEVENT
DTSTART;TZID=America/Phoenix:20220820T080000
DTEND;TZID=America/Phoenix:20220820T093000
DTSTAMP:20260420T051921
CREATED:20220626T030309Z
LAST-MODIFIED:20220626T192859Z
UID:770-1660982400-1660987800@brccaz.com
SUMMARY:Men's Breakfast
DESCRIPTION:Men’s Community Breakfast\, come out and bring your neighbor
URL:https://brccaz.com/event/mens-breakfast-8
LOCATION:AZ
CATEGORIES:Men's Breakfast,Men's Ministry
END:VEVENT
BEGIN:VEVENT
DTSTART;TZID=America/Phoenix:20220716T080000
DTEND;TZID=America/Phoenix:20220716T093000
DTSTAMP:20260420T051921
CREATED:20220621T022639Z
LAST-MODIFIED:20220623T224744Z
UID:753-1657958400-1657963800@brccaz.com
SUMMARY:Men's Breakfast
DESCRIPTION:Come meet your neighbors
URL:https://brccaz.com/event/mens-breakfast-6
LOCATION:AZ
CATEGORIES:Men's Ministry
END:VEVENT
BEGIN:VEVENT
DTSTART;TZID=America/Phoenix:20220416T080000
DTEND;TZID=America/Phoenix:20220416T093000
DTSTAMP:20260420T051921
CREATED:20220403T194459Z
LAST-MODIFIED:20220403T194459Z
UID:674-1650096000-1650101400@brccaz.com
SUMMARY:Men's Breakfast
DESCRIPTION:
URL:https://brccaz.com/event/mens-breakfast-5
LOCATION:AZ
CATEGORIES:Men's Ministry
END:VEVENT
BEGIN:VEVENT
DTSTART;TZID=America/Phoenix:20220115T080000
DTEND;TZID=America/Phoenix:20220115T100000
DTSTAMP:20260420T051921
CREATED:20211231T141443Z
LAST-MODIFIED:20211231T141608Z
UID:416-1642233600-1642240800@brccaz.com
SUMMARY:Men's Breakfast
DESCRIPTION:Men on the mountain\, please join BRCC men’s ministry for breakfast and fellowship on Saturday January 15th at 8:00am at Blue Ridge Community Church. Enjoy a great breakfast\, fellowship\, and a great testimonial.
URL:https://brccaz.com/event/mens-breakfast-2
LOCATION:BRCC\, 5706 N. Worship Way\, Happy Jack\, AZ\, 86024
CATEGORIES:Men's Breakfast
ORGANIZER;CN="BRCC Men":MAILTO:men@brccaz.com
END:VEVENT
BEGIN:VEVENT
DTSTART;TZID=America/Phoenix:20211022T173000
DTEND;TZID=America/Phoenix:20211022T200000
DTSTAMP:20260420T051921
CREATED:20211006T140412Z
LAST-MODIFIED:20211022T234527Z
UID:273-1634923800-1634932800@brccaz.com
SUMMARY:Ladies Appreciation Night
DESCRIPTION:Men’s ministry is proud to sponsor a Ladies Appreciation Night at BRCC\, starting at 5:30pm on Friday October 22nd. Men will be serving dinner to the ladies\, and providing a special recognition night. Dress to your comfort\, pictures will be taken. This is for couples and single ladies.
URL:https://brccaz.com/event/ladies-appreciation-night
LOCATION:BRCC\, 5706 N. Worship Way\, Happy Jack\, AZ\, 86024
CATEGORIES:Men's Ministry
ORGANIZER;CN="BRCC Men":MAILTO:men@brccaz.com
END:VEVENT
BEGIN:VEVENT
DTSTART;TZID=America/Phoenix:20211016T080000
DTEND;TZID=America/Phoenix:20211016T103000
DTSTAMP:20260420T051921
CREATED:20211006T140238Z
LAST-MODIFIED:20211006T140238Z
UID:271-1634371200-1634380200@brccaz.com
SUMMARY:Men's Breakfast
DESCRIPTION:Men on the mountain\, please join BRCC men’s ministry for breakfast and fellowship on Saturday October 16th at 8:00am at Blue Ridge Community Church. Enjoy a great breakfast\, fellowship\, and a great testimonial.
URL:https://brccaz.com/event/mens-breakfast
LOCATION:BRCC\, 5706 N. Worship Way\, Happy Jack\, AZ\, 86024
CATEGORIES:Men's Breakfast
ORGANIZER;CN="BRCC Men":MAILTO:men@brccaz.com
END:VEVENT
BEGIN:VEVENT
DTSTART;TZID=America/Phoenix:20210828T080000
DTEND;TZID=America/Phoenix:20210828T090000
DTSTAMP:20260420T051921
CREATED:20210823T233328Z
LAST-MODIFIED:20220908T183241Z
UID:76-1630137600-1630141200@brccaz.com
SUMMARY:Men's Bible Study
DESCRIPTION:Men sharpening men. \nJoin us for a deep relation building time in the Word.
URL:https://brccaz.com/event/mens-bible-study
LOCATION:BRCC\, 5706 N. Worship Way\, Happy Jack\, AZ\, 86024
CATEGORIES:Men's Bible Study
END:VEVENT
END:VCALENDAR