BEGIN:VCALENDAR
VERSION:2.0
PRODID:-//Blue Ridge Community Church - ECPv6.15.20//NONSGML v1.0//EN
CALSCALE:GREGORIAN
METHOD:PUBLISH
X-WR-CALNAME:Blue Ridge Community Church
X-ORIGINAL-URL:https://brccaz.com
X-WR-CALDESC:Events for Blue Ridge Community Church
REFRESH-INTERVAL;VALUE=DURATION:PT1H
X-Robots-Tag:noindex
X-PUBLISHED-TTL:PT1H
BEGIN:VTIMEZONE
TZID:America/Phoenix
BEGIN:STANDARD
TZOFFSETFROM:-0700
TZOFFSETTO:-0700
TZNAME:MST
DTSTART:20250101T000000
END:STANDARD
END:VTIMEZONE
BEGIN:VEVENT
DTSTART;TZID=America/Phoenix:20260412T113000
DTEND;TZID=America/Phoenix:20260412T123000
DTSTAMP:20260419T091640
CREATED:20260315T221537Z
LAST-MODIFIED:20260329T191959Z
UID:2883-1775993400-1775997000@brccaz.com
SUMMARY:Pot luck and Church business meeting
DESCRIPTION:
URL:https://brccaz.com/event/pot-luck-church-business-meeting
END:VEVENT
END:VCALENDAR